Workbook
Name AverageRORE: #REF!
Name AverageRORE: #REF!
Name AverageRORE: #REF!
Name IncentiveStrength: TIM!$I$13
Name IterationInput: #REF!
Name IterationInput: #REF!
Name m_calculated_tax: TaxTrigger!$AJ$59:$AQ$59
Name m_identity: UserInterface!$E$63
Name m_live_results: LiveResults!$C$15
Name m_live_results_end: LiveResults!$C$92
Name m_model_state: UserInterface!#REF!
Name m_model_state: [1]UserInterface!#REF!
Name m_model_state: UserInterface!#REF!
Name m_PCFM_year_t: UserInterface!$E$75
Name m_results_01: SavedResults!$C$19
Name m_results_02: SavedResults!$C$96
Name m_results_03: SavedResults!$C$173
Name m_results_04: SavedResults!$C$250
Name m_results_05: SavedResults!$C$327
Name m_results_06: SavedResults!$C$404
Name m_results_07: SavedResults!$C$481
Name m_results_08: SavedResults!$C$558
Name m_results_09: SavedResults!$C$635
Name m_results_10: SavedResults!$C$712
Name m_results_11: SavedResults!$C$789
Name m_results_12: SavedResults!$C$866
Name m_results_13: SavedResults!$C$943
Name m_results_14: SavedResults!$C$1020
Name m_saved_original_test: TaxTrigger!$AJ$65:$AQ$65
Name m_tax_trigger_results: TaxTrigger!$AJ$65:$AQ$65
Name m_tax_trigger_state: TaxTrigger!$E$32
Name NewMatrix1: #REF!
Name NewMatrix1: #REF!
Name NewMatrix2: #REF!
Name NewMatrix2: #REF!
Name NumberofOperators: UserInterface!$E$49:$E$62
Name RORE_paste: #REF!
Name RORE_paste: #REF!
Name RORE_paste: #REF!
Name s: [2]SavedResults!$C$19
Name SAD: [3]UserInterface!#REF!
Name TVMcheck: 'Revenue Profiling'!$D$274
Name TVMcopy: 'Revenue Profiling'!$AJ$273:$AQ$273
Name view: UserInterface!$E$81

Sheet Cover
A1: RIIO Financial Model
B2: Electricity Distribution
C3: =MID(CELL("filename"),SEARCH("[",CELL("filename"))+1,SEARCH("]",CELL("filename"))-SEARCH("[",CELL("filename"))-1) -> UKPN_PCFM_Model_2014.xlsm
C4: RIIO ED1 Price Control Financial Model for the Annual Iteration Process that will take place by 30 November 2015-16
C6: DISCLAIMER: The purpose of this model is used to calculate Base Revenue (PU)and MOD terms in subsequent years for Licensees on the basis of Financial Handbook and Licence conditions of the relevant Network Operator
C8: Note: Calculations of the regulatory financial position in financial statements are done on a notional basis, in line with the assumptions in this model and in Final Proposals. These may be different from the financial position stated in operator's accounts.
B10: Model key
E12: Sample | G12: Information and interface
E13: Sample | G13: Fixed input value
E14: Sample | G14: Annual update input
E15: Sample | G15: Input linked from annual update
E16: Sample | G16: Notes and instructions
E17: Sample | G17: Sheet or calculation used only to inform assessment
B19: Contents
E21: INTERFACE >
E22: Cover | G22: Model key and content directory
E23: UserInterface | G23: Model operation
E24: TaxTrigger | G24: Tax trigger calculations
E25: MOD | G25: MOD Summary
E26: INPUT SELECTION >
E27: Input | G27: Inputs for selected licensee
E28: CALCULATION >
E29: Totex | G29: Totex allowance and actuals
E30: TIM | G30: Totex Incentive Mechanism and capitalisation
E31: DARTs | G31: Direct Allowance Revenue Terms
E32: Depn | G32: Gas distribution regulatory depreciation
E33: Return&RAV | G33: RAV and return calculations
E34: TaxPools | G34: Tax pools and capital allowances
E35: Finance&Tax | G35: Net debt, equity issuance, financing costs and tax
E36: Revenue | G36: Revenue and MOD
E37: Revenue Profiling | G37: Revenue Profiling tool
E38: OUTPUT >
E39: LiveResults | G39: Results for selected company
E40: SavedResults | G40: Saved results for all companies
E41: FinancialStatements | G41: Financial statements for selected company
E42: FinancialRatios | G42: Financial ratios for selected company
E43: Bill impact | G43: Bill impact for all companies
E44: RoRE | G44: Return on Regulatory Equity calculations for selected company
E45: COMPANY SPECIFIC INPUT SHEETS >
E46: ENWL
...

Sheet UserInterface
A1: User Interface
B3: Model operation
C5: Scenario
E7: Scenario selection
E9: Selected Scenario: | G9: =INDEX(E79:E80,E81) -> Base (M1b)
C12: PCFM year t
C13: Instruction: Use the following drop-down list to identify year t in the model. Year t is identified here by its end date.
E15: Year t selection:
E17: Year t selected: | G17: =EOMONTH(42094,E75*12) -> 42460
C19: Active company
C20: Instruction: Use the following drop-down list to select the active company in the model.
E22: Company selection:
E24: Selected company: | G24: =INDEX(E49:E62, E63) -> SPN
C26: Model state
C27: Below shows the state of the model selected in the Tax Trigger sheet
E29: Selected model status: | G29: =INDEX(TaxTrigger!E30:E31,m_tax_trigger_state,1) -> Licence Model
C31: Run model for all licensees
C32: Instruction: Click on the left button to save results for the selected company only. Click the right button to save results for all.
C33: Note: Annual iterations must have been completed for all prior years before running the model to generate MOD.
C34: The macros save results and values required for future years which cannot be recreated once inputs are revised.
C35: Running the macro saves the output from year t's iteration for use in future iterations.
C36: Results for the selected company can be found on the "LiveResults" sheet and also on the "SavedResults" sheet once saved by a macro.
B42: User selection lists
B43: Note: The lists below drive the drop-down lists above.
B44: Using the drop-down lists above returns an integer in the "cell link" positioned below their "source list."
B45: The number returned in the cell link corresponds to the position of the selected item in the source list.
B46: The company selection output is set as a "named range." This gives a stable anchor point for the "RunForAll" macro to change the company.
E48: ="Source for ''"&C19&"'' drop-down list" -> Source for ''Active company'' drop-down list
E49: ENWL
E50: NPgN
E51: NPgY
E52: WMID
E53: EMID
E54: SWALES
E55: SWEST
E56: LPN
E57: SPN
E58: EPN
E59: SPD
E60: SPMW
...

Sheet Change Control
B1: Details of change | D1: Links to changes in model
B487: From here is post 25Oct 2013 model
B488: Updated guarunteed standards from value to -160bps
B491: Tree Cutting is shown as seperately line (as opposed to added to pensions) so that it can have its own tax pool allocation and feed into the model separately.
B494: Re-allocation (see comment box for further detail)
B497: Correction of RPEs for high values projects in BPDT for re-opener only
B512: Seperation of rail electrification from diversions. The BPDTs and the model have been amended so rail electrification (where relevant) will come through as a variant costs separately.
B518: Note in the M1/T tabs in the BPDTs the model input for QofS amended so its split between exante and DNO funded (with only the ex-ante component going through to the model inputs. This is to capture information on QoS expenditure that is funded via the price control (ex ante) compared with funded by the DNO.
B524: Removal of scenarios which are no longer used (ie OWN/Reference and DECC scenarios)
B527: Updated legacy workbook (now split between RavRollingIncentive, RRI, and other legacy adjustments)
B530: Removal of compensation payment from non activity costs.
B551: Updated RPI forcast from 2.8 to 3.1%

Sheet TaxTrigger
A1: Tax Trigger
B2: =UserInterface!G24 -> SPN | AJ2: Done
E7: Parameter | G7: Units | I7: Constant | AJ7: Annual values
E8: PCFM year ending | I8: =UserInterface!$G$17 -> 42460 | K8: 33328 | L8: 33694 | M8: 34059 | N8: 34424 | O8: 34789 | P8: 35155 | Q8: 35520 | R8: 35885 | S8: 36250 | T8: 36616 | U8: 36981 | V8: 37346 | W8: 37711 | X8: 38077 | Y8: 38442 | Z8: 38807 | AA8: 39172 | AB8: 39538 | AC8: 39903 | AD8: 40268 | AE8: 40633 | AF8: 40999 | AG8: 41364 | AH8: 41729 | AI8: 42094 | AJ8: 42460 | AK8: 42825 | AL8: 43190 | AM8: 43555 | AN8: 43921 | AO8: 44286 | AP8: 44651 | AQ8: 45016
B10: Tax trigger calculation
C12: Test operation
C13: Instruction: To run the model as the Tax Trigger Tool, The model state selected below should be Tax Trigger Calculation
C14: Clicking the macro button below runs the "TaxTrigger" macro, performing the Tax Trigger adjustment calculation for the selected licensee for year t.
C15: The output generated by the macro can be replicated manually using the following steps:
C16: 1. Clear any values from previous tests in the "Test state output" section below (named range "m_saved_original_results")
C17: 2. Set testing state to "Licence Model"
C18: 3. Copy the cells marked as the "m_calculated_tax" named range and paste them at the named range "m_saved_original_test."
C19: 4. Set testing state to "Tax Trigger Calculation"
C20: Note: The Tax Trigger Tool is disabled if the "Model state" below reads "Licence Model."
E26: State selection
E29: State options
E30: Licence Model
E31: Tax Trigger Calculation
E32: 1
E33: Adjacent named range: m_tax_trigger_state
E38: Run macro
C44: Tax calculation
E46: Tax Allowance when tax losses are not taken into account
E48: Profits attributable to corporation tax | G48: £m 12/13 prices | AJ48: ='Finance&Tax'!AJ169 * Input!$AG$57 / Input!AJ$57 -> 61.111517 | AK48: ='Finance&Tax'!AK169 * Input!$AG$57 / Input!AK$57 -> 62.069054 | AL48: ='Finance&Tax'!AL169 * Input!$AG$57 / Input!AL$57 -> 63.40443 | AM48: ='Finance&Tax'!AM169 * Input!$AG$57 / Input!AM$57 -> 66.94001 | AN48: ='Finance&Tax'!AN169 * Input!$AG$57 / Input!AN$57 -> 72.548504 | AO48: ='Finance&Tax'!AO169 * Input!$AG$57 / Input!AO$57 -> 78.735596 | AP48: ='Finance&Tax'!AP169 * Input!$AG$57 / Input!AP$57 -> 87.305557 | AQ48: ='Finance&Tax'!AQ169 * Input!$AG$57 / Input!AQ$57 -> 95.325926
E49: Corporation tax rate | AJ49: ='Finance&Tax'!AJ186 -> 0.2 | AK49: ='Finance&Tax'!AK186 -> 0.2 | AL49: ='Finance&Tax'!AL186 -> 0.2 | AM49: ='Finance&Tax'!AM186 -> 0.2 | AN49: ='Finance&Tax'!AN186 -> 0.2 | AO49: ='Finance&Tax'!AO186 -> 0.2 | AP49: ='Finance&Tax'!AP186 -> 0.2 | AQ49: ='Finance&Tax'!AQ186 -> 0.2
E50: Grossing-up factor for tax on tax charge | AJ50: ='Finance&Tax'!AJ189 -> 1.25 | AK50: ='Finance&Tax'!AK189 -> 1.25 | AL50: ='Finance&Tax'!AL189 -> 1.25 | AM50: ='Finance&Tax'!AM189 -> 1.25 | AN50: ='Finance&Tax'!AN189 -> 1.25 | AO50: ='Finance&Tax'!AO189 -> 1.25 | AP50: ='Finance&Tax'!AP189 -> 1.25 | AQ50: ='Finance&Tax'!AQ189 -> 1.25
E51: Corporation tax charge beforre losses | AJ51: =AJ49*AJ48*AJ50 -> 15.277879 | AK51: =AK49*AK48*AK50 -> 15.517263 | AL51: =AL49*AL48*AL50 -> 15.851108 | AM51: =AM49*AM48*AM50 -> 16.735002 | AN51: =AN49*AN48*AN50 -> 18.137126 | AO51: =AO49*AO48*AO50 -> 19.683899 | AP51: =AP49*AP48*AP50 -> 21.826389 | AQ51: =AQ49*AQ48*AQ50 -> 23.831482
E53: Tax allowance without taking into account losses | AJ53: =AJ51 -> 15.277879 | AK53: =AK51 -> 15.517263 | AL53: =AL51 -> 15.851108 | AM53: =AM51 -> 16.735002 | AN53: =AN51 -> 18.137126 | AO53: =AO51 -> 19.683899 | AP53: =AP51 -> 21.826389 | AQ53: =AQ51 -> 23.831482
I55: Instruction
E56: Tax allowance before tax trigger | G56: £m 12/13 prices | AJ56: =AJ53 -> 15.277879 | AK56: =AK53 -> 15.517263 | AL56: =AL53 -> 15.851108 | AM56: =AM53 -> 16.735002 | AN56: =AN53 -> 18.137126 | AO56: =AO53 -> 19.683899 | AP56: =AP53 -> 21.826389 | AQ56: =AQ53 -> 23.831482
E57: B event value | G57: £m 12/13 prices | AJ57: =AJ135 -> 0 | AK57: =AK135 -> 0 | AL57: =AL135 -> 0 | AM57: =AM135 -> 0 | AN57: =AN135 -> 0 | AO57: =AO135 -> 0 | AP57: =AP135 -> 0 | AQ57: =AQ135 -> 0
E58: Threshold value adjustment | G58: £m 12/13 prices | AJ58: =AJ86 -> 0 | AK58: =AK86 -> 0 | AL58: =AL86 -> 0 | AM58: =AM86 -> 0 | AN58: =AN86 -> 0 | AO58: =AO86 -> 0 | AP58: =AP86 -> 0 | AQ58: =AQ86 -> 0
E59: Tax allowance | G59: £m 12/13 prices | I59: =IF(m_tax_trigger_state = 1, "Copy cells -->", "-") -> Copy cells --> | AJ59: =SUM(AJ56:AJ58) -> 15.277879 | AK59: =SUM(AK56:AK58) -> 15.517263 | AL59: =SUM(AL56:AL58) -> 15.851108 | AM59: =SUM(AM56:AM58) -> 16.735002 | AN59: =SUM(AN56:AN58) -> 18.137126 | AO59: =SUM(AO56:AO58) -> 19.683899 | AP59: =SUM(AP56:AP58) -> 21.826389 | AQ59: =SUM(AQ56:AQ58) -> 23.831482
AJ60: Adjacent named range: m_calculated_tax
C61: Test state output
C62: Note: The formula determines whether the recalculated tax is above or below the threshold and sets the adjustment accordingly
I64: Instruction
E65: Value with original settings | G65: £m 12/13 prices | I65: =IF( m_tax_trigger_state = 1, "Paste cells -->","-") -> Paste cells --> | AI65: m_tax_trigger_results
AJ66: Named ranges above: m_saved_original_test
E67: Value with new settings and threshold adjustment | G67: £m 12/13 prices | AJ67: =AJ59 -> 15.277879 | AK67: =AK59 -> 15.517263 | AL67: =AL59 -> 15.851108 | AM67: =AM59 -> 16.735002 | AN67: =AN59 -> 18.137126 | AO67: =AO59 -> 19.683899 | AP67: =AP59 -> 21.826389 | AQ67: =AQ59 -> 23.831482
...

Sheet MOD
A1: MOD
B2: =UserInterface!G24 -> SPN | AJ2: Done
E6: Parameter | G6: Units | I6: Constant | AJ6: Annual values
E7: PCFM year ending | I7: =UserInterface!$G$17 -> 42460 | K7: 33328 | L7: 33694 | M7: 34059 | N7: 34424 | O7: 34789 | P7: 35155 | Q7: 35520 | R7: 35885 | S7: 36250 | T7: 36616 | U7: 36981 | V7: 37346 | W7: 37711 | X7: 38077 | Y7: 38442 | Z7: 38807 | AA7: 39172 | AB7: 39538 | AC7: 39903 | AD7: 40268 | AE7: 40633 | AF7: 40999 | AG7: 41364 | AH7: 41729 | AI7: 42094 | AJ7: 42460 | AK7: 42825 | AL7: 43190 | AM7: 43555 | AN7: 43921 | AO7: 44286 | AP7: 44651 | AQ7: 45016
E9: =UserInterface!E17 -> Year t selected: | G9: =UserInterface!G17 -> 42460
E11: =Revenue!E67 -> Final Proposals base revenue | AJ11: =Revenue!AJ67 -> 323.73091 | AK11: =Revenue!AK67 -> 332.40781 | AL11: =Revenue!AL67 -> 341.31505 | AM11: =Revenue!AM67 -> 350.45999 | AN11: =Revenue!AN67 -> 359.81208 | AO11: =Revenue!AO67 -> 369.46987 | AP11: =Revenue!AP67 -> 379.39212 | AQ11: =Revenue!AQ67 -> 389.58314
E12: =Revenue!E68 -> MOD | AK12: =Revenue!AK68 -> 0 | AL12: =Revenue!AL68 -> 0 | AM12: =Revenue!AM68 -> 0 | AN12: =Revenue!AN68 -> 0 | AO12: =Revenue!AO68 -> 0 | AP12: =Revenue!AP68 -> 0 | AQ12: =Revenue!AQ68 -> 0
E13: =Revenue!E69 -> Base revenue | AJ13: =Revenue!AJ69 -> 323.73091 | AK13: =Revenue!AK69 -> 332.40781 | AL13: =Revenue!AL69 -> 341.31505 | AM13: =Revenue!AM69 -> 350.45999 | AN13: =Revenue!AN69 -> 359.81208 | AO13: =Revenue!AO69 -> 369.46987 | AP13: =Revenue!AP69 -> 379.39212 | AQ13: =Revenue!AQ69 -> 389.58314

Sheet Input
A1: Input
B2: =UserInterface!G24 -> SPN | AJ2: Done
E6: Parameter | F6: Licence condition | G6: Units | H6: Term | I6: Constant | AJ6: Annual values
E7: PCFM year ending | F7: =Cover!C3 -> UKPN_PCFM_Model_2014.xlsm | I7: =UserInterface!$G$17 -> 42460 | K7: 33328 | L7: 33694 | M7: 34059 | N7: 34424 | O7: 34789 | P7: 35155 | Q7: 35520 | R7: 35885 | S7: 36250 | T7: 36616 | U7: 36981 | V7: 37346 | W7: 37711 | X7: 38077 | Y7: 38442 | Z7: 38807 | AA7: 39172 | AB7: 39538 | AC7: 39903 | AD7: 40268 | AE7: 40633 | AF7: 40999 | AG7: 41364 | AH7: 41729 | AI7: 42094 | AJ7: 42460 | AK7: 42825 | AL7: 43190 | AM7: 43555 | AN7: 43921 | AO7: 44286 | AP7: 44651 | AQ7: 45016
B9: PCFM Variable Values Table
E11: Allowed percentage cost of corporate debt | F11: CRC3C | G11: annual real % | H11: CDE | AJ11: =CHOOSE(m_identity,ENWL!AJ11, NPgN!AJ11, NPgY!AJ11, WMID!AJ11, EMID!AJ11, SWALES!AJ11, SWEST!AJ11, LPN!AJ11,SPN!AJ11,EPN!AJ11,SPD!AJ11,SPMW!AJ11,SSEH!AJ11,SSES!AJ11) -> 0.0272 | AK11: =CHOOSE(m_identity,ENWL!AK11, NPgN!AK11, NPgY!AK11, WMID!AK11, EMID!AK11, SWALES!AK11, SWEST!AK11, LPN!AK11,SPN!AK11,EPN!AK11,SPD!AK11,SPMW!AK11,SSEH!AK11,SSES!AK11) -> 0.0272 | AL11: =CHOOSE(m_identity,ENWL!AL11, NPgN!AL11, NPgY!AL11, WMID!AL11, EMID!AL11, SWALES!AL11, SWEST!AL11, LPN!AL11,SPN!AL11,EPN!AL11,SPD!AL11,SPMW!AL11,SSEH!AL11,SSES!AL11) -> 0.0272 | AM11: =CHOOSE(m_identity,ENWL!AM11, NPgN!AM11, NPgY!AM11, WMID!AM11, EMID!AM11, SWALES!AM11, SWEST!AM11, LPN!AM11,SPN!AM11,EPN!AM11,SPD!AM11,SPMW!AM11,SSEH!AM11,SSES!AM11) -> 0.0272 | AN11: =CHOOSE(m_identity,ENWL!AN11, NPgN!AN11, NPgY!AN11, WMID!AN11, EMID!AN11, SWALES!AN11, SWEST!AN11, LPN!AN11,SPN!AN11,EPN!AN11,SPD!AN11,SPMW!AN11,SSEH!AN11,SSES!AN11) -> 0.0272 | AO11: =CHOOSE(m_identity,ENWL!AO11, NPgN!AO11, NPgY!AO11, WMID!AO11, EMID!AO11, SWALES!AO11, SWEST!AO11, LPN!AO11,SPN!AO11,EPN!AO11,SPD!AO11,SPMW!AO11,SSEH!AO11,SSES!AO11) -> 0.0272 | AP11: =CHOOSE(m_identity,ENWL!AP11, NPgN!AP11, NPgY!AP11, WMID!AP11, EMID!AP11, SWALES!AP11, SWEST!AP11, LPN!AP11,SPN!AP11,EPN!AP11,SPD!AP11,SPMW!AP11,SSEH!AP11,SSES!AP11) -> 0.0272 | AQ11: =CHOOSE(m_identity,ENWL!AQ11, NPgN!AQ11, NPgY!AQ11, WMID!AQ11, EMID!AQ11, SWALES!AQ11, SWEST!AQ11, LPN!AQ11,SPN!AQ11,EPN!AQ11,SPD!AQ11,SPMW!AQ11,SSEH!AQ11,SSES!AQ11) -> 0.0272
E12: Actual load related capex | F12: CRC3B | G12: £m 12/13 prices | H12: ALC | AJ12: =CHOOSE(m_identity,ENWL!AJ12, NPgN!AJ12, NPgY!AJ12, WMID!AJ12, EMID!AJ12, SWALES!AJ12, SWEST!AJ12, LPN!AJ12,SPN!AJ12,EPN!AJ12,SPD!AJ12,SPMW!AJ12,SSEH!AJ12,SSES!AJ12) -> 0 | AK12: =CHOOSE(m_identity,ENWL!AK12, NPgN!AK12, NPgY!AK12, WMID!AK12, EMID!AK12, SWALES!AK12, SWEST!AK12, LPN!AK12,SPN!AK12,EPN!AK12,SPD!AK12,SPMW!AK12,SSEH!AK12,SSES!AK12) -> 0 | AL12: =CHOOSE(m_identity,ENWL!AL12, NPgN!AL12, NPgY!AL12, WMID!AL12, EMID!AL12, SWALES!AL12, SWEST!AL12, LPN!AL12,SPN!AL12,EPN!AL12,SPD!AL12,SPMW!AL12,SSEH!AL12,SSES!AL12) -> 0 | AM12: =CHOOSE(m_identity,ENWL!AM12, NPgN!AM12, NPgY!AM12, WMID!AM12, EMID!AM12, SWALES!AM12, SWEST!AM12, LPN!AM12,SPN!AM12,EPN!AM12,SPD!AM12,SPMW!AM12,SSEH!AM12,SSES!AM12) -> 0 | AN12: =CHOOSE(m_identity,ENWL!AN12, NPgN!AN12, NPgY!AN12, WMID!AN12, EMID!AN12, SWALES!AN12, SWEST!AN12, LPN!AN12,SPN!AN12,EPN!AN12,SPD!AN12,SPMW!AN12,SSEH!AN12,SSES!AN12) -> 0 | AO12: =CHOOSE(m_identity,ENWL!AO12, NPgN!AO12, NPgY!AO12, WMID!AO12, EMID!AO12, SWALES!AO12, SWEST!AO12, LPN!AO12,SPN!AO12,EPN!AO12,SPD!AO12,SPMW!AO12,SSEH!AO12,SSES!AO12) -> 0 | AP12: =CHOOSE(m_identity,ENWL!AP12, NPgN!AP12, NPgY!AP12, WMID!AP12, EMID!AP12, SWALES!AP12, SWEST!AP12, LPN!AP12,SPN!AP12,EPN!AP12,SPD!AP12,SPMW!AP12,SSEH!AP12,SSES!AP12) -> 0 | AQ12: =CHOOSE(m_identity,ENWL!AQ12, NPgN!AQ12, NPgY!AQ12, WMID!AQ12, EMID!AQ12, SWALES!AQ12, SWEST!AQ12, LPN!AQ12,SPN!AQ12,EPN!AQ12,SPD!AQ12,SPMW!AQ12,SSEH!AQ12,SSES!AQ12) -> 0
E13: Actual non-load related capex - asset replacement | F13: CRC3B | G13: £m 12/13 prices | H13: ARE | AJ13: =CHOOSE(m_identity,ENWL!AJ13, NPgN!AJ13, NPgY!AJ13, WMID!AJ13, EMID!AJ13, SWALES!AJ13, SWEST!AJ13, LPN!AJ13,SPN!AJ13,EPN!AJ13,SPD!AJ13,SPMW!AJ13,SSEH!AJ13,SSES!AJ13) -> 0 | AK13: =CHOOSE(m_identity,ENWL!AK13, NPgN!AK13, NPgY!AK13, WMID!AK13, EMID!AK13, SWALES!AK13, SWEST!AK13, LPN!AK13,SPN!AK13,EPN!AK13,SPD!AK13,SPMW!AK13,SSEH!AK13,SSES!AK13) -> 0 | AL13: =CHOOSE(m_identity,ENWL!AL13, NPgN!AL13, NPgY!AL13, WMID!AL13, EMID!AL13, SWALES!AL13, SWEST!AL13, LPN!AL13,SPN!AL13,EPN!AL13,SPD!AL13,SPMW!AL13,SSEH!AL13,SSES!AL13) -> 0 | AM13: =CHOOSE(m_identity,ENWL!AM13, NPgN!AM13, NPgY!AM13, WMID!AM13, EMID!AM13, SWALES!AM13, SWEST!AM13, LPN!AM13,SPN!AM13,EPN!AM13,SPD!AM13,SPMW!AM13,SSEH!AM13,SSES!AM13) -> 0 | AN13: =CHOOSE(m_identity,ENWL!AN13, NPgN!AN13, NPgY!AN13, WMID!AN13, EMID!AN13, SWALES!AN13, SWEST!AN13, LPN!AN13,SPN!AN13,EPN!AN13,SPD!AN13,SPMW!AN13,SSEH!AN13,SSES!AN13) -> 0 | AO13: =CHOOSE(m_identity,ENWL!AO13, NPgN!AO13, NPgY!AO13, WMID!AO13, EMID!AO13, SWALES!AO13, SWEST!AO13, LPN!AO13,SPN!AO13,EPN!AO13,SPD!AO13,SPMW!AO13,SSEH!AO13,SSES!AO13) -> 0 | AP13: =CHOOSE(m_identity,ENWL!AP13, NPgN!AP13, NPgY!AP13, WMID!AP13, EMID!AP13, SWALES!AP13, SWEST!AP13, LPN!AP13,SPN!AP13,EPN!AP13,SPD!AP13,SPMW!AP13,SSEH!AP13,SSES!AP13) -> 0 | AQ13: =CHOOSE(m_identity,ENWL!AQ13, NPgN!AQ13, NPgY!AQ13, WMID!AQ13, EMID!AQ13, SWALES!AQ13, SWEST!AQ13, LPN!AQ13,SPN!AQ13,EPN!AQ13,SPD!AQ13,SPMW!AQ13,SSEH!AQ13,SSES!AQ13) -> 0
E14: Actual non-load related capex - other | F14: CRC3B | G14: £m 12/13 prices | H14: AOC | AJ14: =CHOOSE(m_identity,ENWL!AJ14, NPgN!AJ14, NPgY!AJ14, WMID!AJ14, EMID!AJ14, SWALES!AJ14, SWEST!AJ14, LPN!AJ14,SPN!AJ14,EPN!AJ14,SPD!AJ14,SPMW!AJ14,SSEH!AJ14,SSES!AJ14) -> 0 | AK14: =CHOOSE(m_identity,ENWL!AK14, NPgN!AK14, NPgY!AK14, WMID!AK14, EMID!AK14, SWALES!AK14, SWEST!AK14, LPN!AK14,SPN!AK14,EPN!AK14,SPD!AK14,SPMW!AK14,SSEH!AK14,SSES!AK14) -> 0 | AL14: =CHOOSE(m_identity,ENWL!AL14, NPgN!AL14, NPgY!AL14, WMID!AL14, EMID!AL14, SWALES!AL14, SWEST!AL14, LPN!AL14,SPN!AL14,EPN!AL14,SPD!AL14,SPMW!AL14,SSEH!AL14,SSES!AL14) -> 0 | AM14: =CHOOSE(m_identity,ENWL!AM14, NPgN!AM14, NPgY!AM14, WMID!AM14, EMID!AM14, SWALES!AM14, SWEST!AM14, LPN!AM14,SPN!AM14,EPN!AM14,SPD!AM14,SPMW!AM14,SSEH!AM14,SSES!AM14) -> 0 | AN14: =CHOOSE(m_identity,ENWL!AN14, NPgN!AN14, NPgY!AN14, WMID!AN14, EMID!AN14, SWALES!AN14, SWEST!AN14, LPN!AN14,SPN!AN14,EPN!AN14,SPD!AN14,SPMW!AN14,SSEH!AN14,SSES!AN14) -> 0 | AO14: =CHOOSE(m_identity,ENWL!AO14, NPgN!AO14, NPgY!AO14, WMID!AO14, EMID!AO14, SWALES!AO14, SWEST!AO14, LPN!AO14,SPN!AO14,EPN!AO14,SPD!AO14,SPMW!AO14,SSEH!AO14,SSES!AO14) -> 0 | AP14: =CHOOSE(m_identity,ENWL!AP14, NPgN!AP14, NPgY!AP14, WMID!AP14, EMID!AP14, SWALES!AP14, SWEST!AP14, LPN!AP14,SPN!AP14,EPN!AP14,SPD!AP14,SPMW!AP14,SSEH!AP14,SSES!AP14) -> 0 | AQ14: =CHOOSE(m_identity,ENWL!AQ14, NPgN!AQ14, NPgY!AQ14, WMID!AQ14, EMID!AQ14, SWALES!AQ14, SWEST!AQ14, LPN!AQ14,SPN!AQ14,EPN!AQ14,SPD!AQ14,SPMW!AQ14,SSEH!AQ14,SSES!AQ14) -> 0
E15: Actual faults | F15: CRC3B | G15: £m 12/13 prices | H15: AFE | AJ15: =CHOOSE(m_identity,ENWL!AJ15, NPgN!AJ15, NPgY!AJ15, WMID!AJ15, EMID!AJ15, SWALES!AJ15, SWEST!AJ15, LPN!AJ15,SPN!AJ15,EPN!AJ15,SPD!AJ15,SPMW!AJ15,SSEH!AJ15,SSES!AJ15) -> 0 | AK15: =CHOOSE(m_identity,ENWL!AK15, NPgN!AK15, NPgY!AK15, WMID!AK15, EMID!AK15, SWALES!AK15, SWEST!AK15, LPN!AK15,SPN!AK15,EPN!AK15,SPD!AK15,SPMW!AK15,SSEH!AK15,SSES!AK15) -> 0 | AL15: =CHOOSE(m_identity,ENWL!AL15, NPgN!AL15, NPgY!AL15, WMID!AL15, EMID!AL15, SWALES!AL15, SWEST!AL15, LPN!AL15,SPN!AL15,EPN!AL15,SPD!AL15,SPMW!AL15,SSEH!AL15,SSES!AL15) -> 0 | AM15: =CHOOSE(m_identity,ENWL!AM15, NPgN!AM15, NPgY!AM15, WMID!AM15, EMID!AM15, SWALES!AM15, SWEST!AM15, LPN!AM15,SPN!AM15,EPN!AM15,SPD!AM15,SPMW!AM15,SSEH!AM15,SSES!AM15) -> 0 | AN15: =CHOOSE(m_identity,ENWL!AN15, NPgN!AN15, NPgY!AN15, WMID!AN15, EMID!AN15, SWALES!AN15, SWEST!AN15, LPN!AN15,SPN!AN15,EPN!AN15,SPD!AN15,SPMW!AN15,SSEH!AN15,SSES!AN15) -> 0 | AO15: =CHOOSE(m_identity,ENWL!AO15, NPgN!AO15, NPgY!AO15, WMID!AO15, EMID!AO15, SWALES!AO15, SWEST!AO15, LPN!AO15,SPN!AO15,EPN!AO15,SPD!AO15,SPMW!AO15,SSEH!AO15,SSES!AO15) -> 0 | AP15: =CHOOSE(m_identity,ENWL!AP15, NPgN!AP15, NPgY!AP15, WMID!AP15, EMID!AP15, SWALES!AP15, SWEST!AP15, LPN!AP15,SPN!AP15,EPN!AP15,SPD!AP15,SPMW!AP15,SSEH!AP15,SSES!AP15) -> 0 | AQ15: =CHOOSE(m_identity,ENWL!AQ15, NPgN!AQ15, NPgY!AQ15, WMID!AQ15, EMID!AQ15, SWALES!AQ15, SWEST!AQ15, LPN!AQ15,SPN!AQ15,EPN!AQ15,SPD!AQ15,SPMW!AQ15,SSEH!AQ15,SSES!AQ15) -> 0
E16: Actual tree cutting | AJ16: =CHOOSE(m_identity,ENWL!AJ16, NPgN!AJ16, NPgY!AJ16, WMID!AJ16, EMID!AJ16, SWALES!AJ16, SWEST!AJ16, LPN!AJ16,SPN!AJ16,EPN!AJ16,SPD!AJ16,SPMW!AJ16,SSEH!AJ16,SSES!AJ16) -> 0 | AK16: =CHOOSE(m_identity,ENWL!AK16, NPgN!AK16, NPgY!AK16, WMID!AK16, EMID!AK16, SWALES!AK16, SWEST!AK16, LPN!AK16,SPN!AK16,EPN!AK16,SPD!AK16,SPMW!AK16,SSEH!AK16,SSES!AK16) -> 0 | AL16: =CHOOSE(m_identity,ENWL!AL16, NPgN!AL16, NPgY!AL16, WMID!AL16, EMID!AL16, SWALES!AL16, SWEST!AL16, LPN!AL16,SPN!AL16,EPN!AL16,SPD!AL16,SPMW!AL16,SSEH!AL16,SSES!AL16) -> 0 | AM16: =CHOOSE(m_identity,ENWL!AM16, NPgN!AM16, NPgY!AM16, WMID!AM16, EMID!AM16, SWALES!AM16, SWEST!AM16, LPN!AM16,SPN!AM16,EPN!AM16,SPD!AM16,SPMW!AM16,SSEH!AM16,SSES!AM16) -> 0 | AN16: =CHOOSE(m_identity,ENWL!AN16, NPgN!AN16, NPgY!AN16, WMID!AN16, EMID!AN16, SWALES!AN16, SWEST!AN16, LPN!AN16,SPN!AN16,EPN!AN16,SPD!AN16,SPMW!AN16,SSEH!AN16,SSES!AN16) -> 0 | AO16: =CHOOSE(m_identity,ENWL!AO16, NPgN!AO16, NPgY!AO16, WMID!AO16, EMID!AO16, SWALES!AO16, SWEST!AO16, LPN!AO16,SPN!AO16,EPN!AO16,SPD!AO16,SPMW!AO16,SSEH!AO16,SSES!AO16) -> 0 | AP16: =CHOOSE(m_identity,ENWL!AP16, NPgN!AP16, NPgY!AP16, WMID!AP16, EMID!AP16, SWALES!AP16, SWEST!AP16, LPN!AP16,SPN!AP16,EPN!AP16,SPD!AP16,SPMW!AP16,SSEH!AP16,SSES!AP16) -> 0 | AQ16: =CHOOSE(m_identity,ENWL!AQ16, NPgN!AQ16, NPgY!AQ16, WMID!AQ16, EMID!AQ16, SWALES!AQ16, SWEST!AQ16, LPN!AQ16,SPN!AQ16,EPN!AQ16,SPD!AQ16,SPMW!AQ16,SSEH!AQ16,SSES!AQ16) -> 0
E17: Actual 100% ‘revenue pool’ expenditure | F17: CRC3B | G17: £m 12/13 prices | H17: ATC | AJ17: =CHOOSE(m_identity,ENWL!AJ17, NPgN!AJ17, NPgY!AJ17, WMID!AJ17, EMID!AJ17, SWALES!AJ17, SWEST!AJ17, LPN!AJ17,SPN!AJ17,EPN!AJ17,SPD!AJ17,SPMW!AJ17,SSEH!AJ17,SSES!AJ17) -> 0 | AK17: =CHOOSE(m_identity,ENWL!AK17, NPgN!AK17, NPgY!AK17, WMID!AK17, EMID!AK17, SWALES!AK17, SWEST!AK17, LPN!AK17,SPN!AK17,EPN!AK17,SPD!AK17,SPMW!AK17,SSEH!AK17,SSES!AK17) -> 0 | AL17: =CHOOSE(m_identity,ENWL!AL17, NPgN!AL17, NPgY!AL17, WMID!AL17, EMID!AL17, SWALES!AL17, SWEST!AL17, LPN!AL17,SPN!AL17,EPN!AL17,SPD!AL17,SPMW!AL17,SSEH!AL17,SSES!AL17) -> 0 | AM17: =CHOOSE(m_identity,ENWL!AM17, NPgN!AM17, NPgY!AM17, WMID!AM17, EMID!AM17, SWALES!AM17, SWEST!AM17, LPN!AM17,SPN!AM17,EPN!AM17,SPD!AM17,SPMW!AM17,SSEH!AM17,SSES!AM17) -> 0 | AN17: =CHOOSE(m_identity,ENWL!AN17, NPgN!AN17, NPgY!AN17, WMID!AN17, EMID!AN17, SWALES!AN17, SWEST!AN17, LPN!AN17,SPN!AN17,EPN!AN17,SPD!AN17,SPMW!AN17,SSEH!AN17,SSES!AN17) -> 0 | AO17: =CHOOSE(m_identity,ENWL!AO17, NPgN!AO17, NPgY!AO17, WMID!AO17, EMID!AO17, SWALES!AO17, SWEST!AO17, LPN!AO17,SPN!AO17,EPN!AO17,SPD!AO17,SPMW!AO17,SSEH!AO17,SSES!AO17) -> 0 | AP17: =CHOOSE(m_identity,ENWL!AP17, NPgN!AP17, NPgY!AP17, WMID!AP17, EMID!AP17, SWALES!AP17, SWEST!AP17, LPN!AP17,SPN!AP17,EPN!AP17,SPD!AP17,SPMW!AP17,SSEH!AP17,SSES!AP17) -> 0 | AQ17: =CHOOSE(m_identity,ENWL!AQ17, NPgN!AQ17, NPgY!AQ17, WMID!AQ17, EMID!AQ17, SWALES!AQ17, SWEST!AQ17, LPN!AQ17,SPN!AQ17,EPN!AQ17,SPD!AQ17,SPMW!AQ17,SSEH!AQ17,SSES!AQ17) -> 0
E18: Actual controllable opex | F18: CRC3B | G18: £m 12/13 prices | H18: ACONO | AJ18: =CHOOSE(m_identity,ENWL!AJ18, NPgN!AJ18, NPgY!AJ18, WMID!AJ18, EMID!AJ18, SWALES!AJ18, SWEST!AJ18, LPN!AJ18,SPN!AJ18,EPN!AJ18,SPD!AJ18,SPMW!AJ18,SSEH!AJ18,SSES!AJ18) -> 0 | AK18: =CHOOSE(m_identity,ENWL!AK18, NPgN!AK18, NPgY!AK18, WMID!AK18, EMID!AK18, SWALES!AK18, SWEST!AK18, LPN!AK18,SPN!AK18,EPN!AK18,SPD!AK18,SPMW!AK18,SSEH!AK18,SSES!AK18) -> 0 | AL18: =CHOOSE(m_identity,ENWL!AL18, NPgN!AL18, NPgY!AL18, WMID!AL18, EMID!AL18, SWALES!AL18, SWEST!AL18, LPN!AL18,SPN!AL18,EPN!AL18,SPD!AL18,SPMW!AL18,SSEH!AL18,SSES!AL18) -> 0 | AM18: =CHOOSE(m_identity,ENWL!AM18, NPgN!AM18, NPgY!AM18, WMID!AM18, EMID!AM18, SWALES!AM18, SWEST!AM18, LPN!AM18,SPN!AM18,EPN!AM18,SPD!AM18,SPMW!AM18,SSEH!AM18,SSES!AM18) -> 0 | AN18: =CHOOSE(m_identity,ENWL!AN18, NPgN!AN18, NPgY!AN18, WMID!AN18, EMID!AN18, SWALES!AN18, SWEST!AN18, LPN!AN18,SPN!AN18,EPN!AN18,SPD!AN18,SPMW!AN18,SSEH!AN18,SSES!AN18) -> 0 | AO18: =CHOOSE(m_identity,ENWL!AO18, NPgN!AO18, NPgY!AO18, WMID!AO18, EMID!AO18, SWALES!AO18, SWEST!AO18, LPN!AO18,SPN!AO18,EPN!AO18,SPD!AO18,SPMW!AO18,SSEH!AO18,SSES!AO18) -> 0 | AP18: =CHOOSE(m_identity,ENWL!AP18, NPgN!AP18, NPgY!AP18, WMID!AP18, EMID!AP18, SWALES!AP18, SWEST!AP18, LPN!AP18,SPN!AP18,EPN!AP18,SPD!AP18,SPMW!AP18,SSEH!AP18,SSES!AP18) -> 0 | AQ18: =CHOOSE(m_identity,ENWL!AQ18, NPgN!AQ18, NPgY!AQ18, WMID!AQ18, EMID!AQ18, SWALES!AQ18, SWEST!AQ18, LPN!AQ18,SPN!AQ18,EPN!AQ18,SPD!AQ18,SPMW!AQ18,SSEH!AQ18,SSES!AQ18) -> 0
E19: Allowed Expenditure - Enhanced Physical Site Security | F19: CRC3F | G19: £m 12/13 prices | H19: UCEPD | AJ19: =CHOOSE(m_identity,ENWL!AJ19, NPgN!AJ19, NPgY!AJ19, WMID!AJ19, EMID!AJ19, SWALES!AJ19, SWEST!AJ19, LPN!AJ19,SPN!AJ19,EPN!AJ19,SPD!AJ19,SPMW!AJ19,SSEH!AJ19,SSES!AJ19) -> 2.5152615 | AK19: =CHOOSE(m_identity,ENWL!AK19, NPgN!AK19, NPgY!AK19, WMID!AK19, EMID!AK19, SWALES!AK19, SWEST!AK19, LPN!AK19,SPN!AK19,EPN!AK19,SPD!AK19,SPMW!AK19,SSEH!AK19,SSES!AK19) -> 0 | AL19: =CHOOSE(m_identity,ENWL!AL19, NPgN!AL19, NPgY!AL19, WMID!AL19, EMID!AL19, SWALES!AL19, SWEST!AL19, LPN!AL19,SPN!AL19,EPN!AL19,SPD!AL19,SPMW!AL19,SSEH!AL19,SSES!AL19) -> 0 | AM19: =CHOOSE(m_identity,ENWL!AM19, NPgN!AM19, NPgY!AM19, WMID!AM19, EMID!AM19, SWALES!AM19, SWEST!AM19, LPN!AM19,SPN!AM19,EPN!AM19,SPD!AM19,SPMW!AM19,SSEH!AM19,SSES!AM19) -> 2.5860497 | AN19: =CHOOSE(m_identity,ENWL!AN19, NPgN!AN19, NPgY!AN19, WMID!AN19, EMID!AN19, SWALES!AN19, SWEST!AN19, LPN!AN19,SPN!AN19,EPN!AN19,SPD!AN19,SPMW!AN19,SSEH!AN19,SSES!AN19) -> 3.1323097 | AO19: =CHOOSE(m_identity,ENWL!AO19, NPgN!AO19, NPgY!AO19, WMID!AO19, EMID!AO19, SWALES!AO19, SWEST!AO19, LPN!AO19,SPN!AO19,EPN!AO19,SPD!AO19,SPMW!AO19,SSEH!AO19,SSES!AO19) -> 1.0539114 | AP19: =CHOOSE(m_identity,ENWL!AP19, NPgN!AP19, NPgY!AP19, WMID!AP19, EMID!AP19, SWALES!AP19, SWEST!AP19, LPN!AP19,SPN!AP19,EPN!AP19,SPD!AP19,SPMW!AP19,SSEH!AP19,SSES!AP19) -> 0 | AQ19: =CHOOSE(m_identity,ENWL!AQ19, NPgN!AQ19, NPgY!AQ19, WMID!AQ19, EMID!AQ19, SWALES!AQ19, SWEST!AQ19, LPN!AQ19,SPN!AQ19,EPN!AQ19,SPD!AQ19,SPMW!AQ19,SSEH!AQ19,SSES!AQ19) -> 0
E20: Allowed Expenditure - High Value Projects | F20: CRC3F | G20: £m 12/13 prices | H20: UCHVP | AJ20: =CHOOSE(m_identity,ENWL!AJ20, NPgN!AJ20, NPgY!AJ20, WMID!AJ20, EMID!AJ20, SWALES!AJ20, SWEST!AJ20, LPN!AJ20,SPN!AJ20,EPN!AJ20,SPD!AJ20,SPMW!AJ20,SSEH!AJ20,SSES!AJ20) -> 5.201285 | AK20: =CHOOSE(m_identity,ENWL!AK20, NPgN!AK20, NPgY!AK20, WMID!AK20, EMID!AK20, SWALES!AK20, SWEST!AK20, LPN!AK20,SPN!AK20,EPN!AK20,SPD!AK20,SPMW!AK20,SSEH!AK20,SSES!AK20) -> 6.3715574 | AL20: =CHOOSE(m_identity,ENWL!AL20, NPgN!AL20, NPgY!AL20, WMID!AL20, EMID!AL20, SWALES!AL20, SWEST!AL20, LPN!AL20,SPN!AL20,EPN!AL20,SPD!AL20,SPMW!AL20,SSEH!AL20,SSES!AL20) -> 6.354772 | AM20: =CHOOSE(m_identity,ENWL!AM20, NPgN!AM20, NPgY!AM20, WMID!AM20, EMID!AM20, SWALES!AM20, SWEST!AM20, LPN!AM20,SPN!AM20,EPN!AM20,SPD!AM20,SPMW!AM20,SSEH!AM20,SSES!AM20) -> 5.9505841 | AN20: =CHOOSE(m_identity,ENWL!AN20, NPgN!AN20, NPgY!AN20, WMID!AN20, EMID!AN20, SWALES!AN20, SWEST!AN20, LPN!AN20,SPN!AN20,EPN!AN20,SPD!AN20,SPMW!AN20,SSEH!AN20,SSES!AN20) -> 4.9613311 | AO20: =CHOOSE(m_identity,ENWL!AO20, NPgN!AO20, NPgY!AO20, WMID!AO20, EMID!AO20, SWALES!AO20, SWEST!AO20, LPN!AO20,SPN!AO20,EPN!AO20,SPD!AO20,SPMW!AO20,SSEH!AO20,SSES!AO20) -> 2.9872918 | AP20: =CHOOSE(m_identity,ENWL!AP20, NPgN!AP20, NPgY!AP20, WMID!AP20, EMID!AP20, SWALES!AP20, SWEST!AP20, LPN!AP20,SPN!AP20,EPN!AP20,SPD!AP20,SPMW!AP20,SSEH!AP20,SSES!AP20) -> 0 | AQ20: =CHOOSE(m_identity,ENWL!AQ20, NPgN!AQ20, NPgY!AQ20, WMID!AQ20, EMID!AQ20, SWALES!AQ20, SWEST!AQ20, LPN!AQ20,SPN!AQ20,EPN!AQ20,SPD!AQ20,SPMW!AQ20,SSEH!AQ20,SSES!AQ20) -> 0
E21: Allowed Expenditure - Visual Amenity Allowed (TIM neutral) | F21: CRC3I | G21: £m 12/13 prices | H21: VAA | AJ21: =CHOOSE(m_identity,ENWL!AJ21, NPgN!AJ21, NPgY!AJ21, WMID!AJ21, EMID!AJ21, SWALES!AJ21, SWEST!AJ21, LPN!AJ21,SPN!AJ21,EPN!AJ21,SPD!AJ21,SPMW!AJ21,SSEH!AJ21,SSES!AJ21) -> 0 | AK21: =CHOOSE(m_identity,ENWL!AK21, NPgN!AK21, NPgY!AK21, WMID!AK21, EMID!AK21, SWALES!AK21, SWEST!AK21, LPN!AK21,SPN!AK21,EPN!AK21,SPD!AK21,SPMW!AK21,SSEH!AK21,SSES!AK21) -> 0 | AL21: =CHOOSE(m_identity,ENWL!AL21, NPgN!AL21, NPgY!AL21, WMID!AL21, EMID!AL21, SWALES!AL21, SWEST!AL21, LPN!AL21,SPN!AL21,EPN!AL21,SPD!AL21,SPMW!AL21,SSEH!AL21,SSES!AL21) -> 0 | AM21: =CHOOSE(m_identity,ENWL!AM21, NPgN!AM21, NPgY!AM21, WMID!AM21, EMID!AM21, SWALES!AM21, SWEST!AM21, LPN!AM21,SPN!AM21,EPN!AM21,SPD!AM21,SPMW!AM21,SSEH!AM21,SSES!AM21) -> 0 | AN21: =CHOOSE(m_identity,ENWL!AN21, NPgN!AN21, NPgY!AN21, WMID!AN21, EMID!AN21, SWALES!AN21, SWEST!AN21, LPN!AN21,SPN!AN21,EPN!AN21,SPD!AN21,SPMW!AN21,SSEH!AN21,SSES!AN21) -> 0 | AO21: =CHOOSE(m_identity,ENWL!AO21, NPgN!AO21, NPgY!AO21, WMID!AO21, EMID!AO21, SWALES!AO21, SWEST!AO21, LPN!AO21,SPN!AO21,EPN!AO21,SPD!AO21,SPMW!AO21,SSEH!AO21,SSES!AO21) -> 0 | AP21: =CHOOSE(m_identity,ENWL!AP21, NPgN!AP21, NPgY!AP21, WMID!AP21, EMID!AP21, SWALES!AP21, SWEST!AP21, LPN!AP21,SPN!AP21,EPN!AP21,SPD!AP21,SPMW!AP21,SSEH!AP21,SSES!AP21) -> 0 | AQ21: =CHOOSE(m_identity,ENWL!AQ21, NPgN!AQ21, NPgY!AQ21, WMID!AQ21, EMID!AQ21, SWALES!AQ21, SWEST!AQ21, LPN!AQ21,SPN!AQ21,EPN!AQ21,SPD!AQ21,SPMW!AQ21,SSEH!AQ21,SSES!AQ21) -> 0
E22: Allowed Expenditure - Worst Served Customers Allowed (TIM neutral) | F22: CRC3H | G22: £m 12/13 prices | H22: WSCC | AJ22: =CHOOSE(m_identity,ENWL!AJ22, NPgN!AJ22, NPgY!AJ22, WMID!AJ22, EMID!AJ22, SWALES!AJ22, SWEST!AJ22, LPN!AJ22,SPN!AJ22,EPN!AJ22,SPD!AJ22,SPMW!AJ22,SSEH!AJ22,SSES!AJ22) -> 0 | AK22: =CHOOSE(m_identity,ENWL!AK22, NPgN!AK22, NPgY!AK22, WMID!AK22, EMID!AK22, SWALES!AK22, SWEST!AK22, LPN!AK22,SPN!AK22,EPN!AK22,SPD!AK22,SPMW!AK22,SSEH!AK22,SSES!AK22) -> 0 | AL22: =CHOOSE(m_identity,ENWL!AL22, NPgN!AL22, NPgY!AL22, WMID!AL22, EMID!AL22, SWALES!AL22, SWEST!AL22, LPN!AL22,SPN!AL22,EPN!AL22,SPD!AL22,SPMW!AL22,SSEH!AL22,SSES!AL22) -> 0 | AM22: =CHOOSE(m_identity,ENWL!AM22, NPgN!AM22, NPgY!AM22, WMID!AM22, EMID!AM22, SWALES!AM22, SWEST!AM22, LPN!AM22,SPN!AM22,EPN!AM22,SPD!AM22,SPMW!AM22,SSEH!AM22,SSES!AM22) -> 0 | AN22: =CHOOSE(m_identity,ENWL!AN22, NPgN!AN22, NPgY!AN22, WMID!AN22, EMID!AN22, SWALES!AN22, SWEST!AN22, LPN!AN22,SPN!AN22,EPN!AN22,SPD!AN22,SPMW!AN22,SSEH!AN22,SSES!AN22) -> 0 | AO22: =CHOOSE(m_identity,ENWL!AO22, NPgN!AO22, NPgY!AO22, WMID!AO22, EMID!AO22, SWALES!AO22, SWEST!AO22, LPN!AO22,SPN!AO22,EPN!AO22,SPD!AO22,SPMW!AO22,SSEH!AO22,SSES!AO22) -> 0 | AP22: =CHOOSE(m_identity,ENWL!AP22, NPgN!AP22, NPgY!AP22, WMID!AP22, EMID!AP22, SWALES!AP22, SWEST!AP22, LPN!AP22,SPN!AP22,EPN!AP22,SPD!AP22,SPMW!AP22,SSEH!AP22,SSES!AP22) -> 0 | AQ22: =CHOOSE(m_identity,ENWL!AQ22, NPgN!AQ22, NPgY!AQ22, WMID!AQ22, EMID!AQ22, SWALES!AQ22, SWEST!AQ22, LPN!AQ22,SPN!AQ22,EPN!AQ22,SPD!AQ22,SPMW!AQ22,SSEH!AQ22,SSES!AQ22) -> 0
E23: Allowed Expenditure - Smart Meter Allowed Expenditure | F23: CRC3E | G23: £m 12/13 prices | H23: SAME | AJ23: =CHOOSE(m_identity,ENWL!AJ23, NPgN!AJ23, NPgY!AJ23, WMID!AJ23, EMID!AJ23, SWALES!AJ23, SWEST!AJ23, LPN!AJ23,SPN!AJ23,EPN!AJ23,SPD!AJ23,SPMW!AJ23,SSEH!AJ23,SSES!AJ23) -> 1.2141391 | AK23: =CHOOSE(m_identity,ENWL!AK23, NPgN!AK23, NPgY!AK23, WMID!AK23, EMID!AK23, SWALES!AK23, SWEST!AK23, LPN!AK23,SPN!AK23,EPN!AK23,SPD!AK23,SPMW!AK23,SSEH!AK23,SSES!AK23) -> 2.0573284 | AL23: =CHOOSE(m_identity,ENWL!AL23, NPgN!AL23, NPgY!AL23, WMID!AL23, EMID!AL23, SWALES!AL23, SWEST!AL23, LPN!AL23,SPN!AL23,EPN!AL23,SPD!AL23,SPMW!AL23,SSEH!AL23,SSES!AL23) -> 2.6669305 | AM23: =CHOOSE(m_identity,ENWL!AM23, NPgN!AM23, NPgY!AM23, WMID!AM23, EMID!AM23, SWALES!AM23, SWEST!AM23, LPN!AM23,SPN!AM23,EPN!AM23,SPD!AM23,SPMW!AM23,SSEH!AM23,SSES!AM23) -> 2.950572 | AN23: =CHOOSE(m_identity,ENWL!AN23, NPgN!AN23, NPgY!AN23, WMID!AN23, EMID!AN23, SWALES!AN23, SWEST!AN23, LPN!AN23,SPN!AN23,EPN!AN23,SPD!AN23,SPMW!AN23,SSEH!AN23,SSES!AN23) -> 2.9554379 | AO23: =CHOOSE(m_identity,ENWL!AO23, NPgN!AO23, NPgY!AO23, WMID!AO23, EMID!AO23, SWALES!AO23, SWEST!AO23, LPN!AO23,SPN!AO23,EPN!AO23,SPD!AO23,SPMW!AO23,SSEH!AO23,SSES!AO23) -> 2.1746193 | AP23: =CHOOSE(m_identity,ENWL!AP23, NPgN!AP23, NPgY!AP23, WMID!AP23, EMID!AP23, SWALES!AP23, SWEST!AP23, LPN!AP23,SPN!AP23,EPN!AP23,SPD!AP23,SPMW!AP23,SSEH!AP23,SSES!AP23) -> 0 | AQ23: =CHOOSE(m_identity,ENWL!AQ23, NPgN!AQ23, NPgY!AQ23, WMID!AQ23, EMID!AQ23, SWALES!AQ23, SWEST!AQ23, LPN!AQ23,SPN!AQ23,EPN!AQ23,SPD!AQ23,SPMW!AQ23,SSEH!AQ23,SSES!AQ23) -> 0
E24: Allowed Expenditure - Specified Street Works | F24: CRC3F | G24: £m 12/13 prices | H24: UCSSW | AJ24: =CHOOSE(m_identity,ENWL!AJ24, NPgN!AJ24, NPgY!AJ24, WMID!AJ24, EMID!AJ24, SWALES!AJ24, SWEST!AJ24, LPN!AJ24,SPN!AJ24,EPN!AJ24,SPD!AJ24,SPMW!AJ24,SSEH!AJ24,SSES!AJ24) -> 0 | AK24: =CHOOSE(m_identity,ENWL!AK24, NPgN!AK24, NPgY!AK24, WMID!AK24, EMID!AK24, SWALES!AK24, SWEST!AK24, LPN!AK24,SPN!AK24,EPN!AK24,SPD!AK24,SPMW!AK24,SSEH!AK24,SSES!AK24) -> 0 | AL24: =CHOOSE(m_identity,ENWL!AL24, NPgN!AL24, NPgY!AL24, WMID!AL24, EMID!AL24, SWALES!AL24, SWEST!AL24, LPN!AL24,SPN!AL24,EPN!AL24,SPD!AL24,SPMW!AL24,SSEH!AL24,SSES!AL24) -> 0 | AM24: =CHOOSE(m_identity,ENWL!AM24, NPgN!AM24, NPgY!AM24, WMID!AM24, EMID!AM24, SWALES!AM24, SWEST!AM24, LPN!AM24,SPN!AM24,EPN!AM24,SPD!AM24,SPMW!AM24,SSEH!AM24,SSES!AM24) -> 0 | AN24: =CHOOSE(m_identity,ENWL!AN24, NPgN!AN24, NPgY!AN24, WMID!AN24, EMID!AN24, SWALES!AN24, SWEST!AN24, LPN!AN24,SPN!AN24,EPN!AN24,SPD!AN24,SPMW!AN24,SSEH!AN24,SSES!AN24) -> 0 | AO24: =CHOOSE(m_identity,ENWL!AO24, NPgN!AO24, NPgY!AO24, WMID!AO24, EMID!AO24, SWALES!AO24, SWEST!AO24, LPN!AO24,SPN!AO24,EPN!AO24,SPD!AO24,SPMW!AO24,SSEH!AO24,SSES!AO24) -> 0 | AP24: =CHOOSE(m_identity,ENWL!AP24, NPgN!AP24, NPgY!AP24, WMID!AP24, EMID!AP24, SWALES!AP24, SWEST!AP24, LPN!AP24,SPN!AP24,EPN!AP24,SPD!AP24,SPMW!AP24,SSEH!AP24,SSES!AP24) -> 0 | AQ24: =CHOOSE(m_identity,ENWL!AQ24, NPgN!AQ24, NPgY!AQ24, WMID!AQ24, EMID!AQ24, SWALES!AQ24, SWEST!AQ24, LPN!AQ24,SPN!AQ24,EPN!AQ24,SPD!AQ24,SPMW!AQ24,SSEH!AQ24,SSES!AQ24) -> 0
E25: Allowed Expenditure - Load Related | F25: CRC3G | G25: £m 12/13 prices | H25: LRRC | AJ25: =CHOOSE(m_identity,ENWL!AJ25, NPgN!AJ25, NPgY!AJ25, WMID!AJ25, EMID!AJ25, SWALES!AJ25, SWEST!AJ25, LPN!AJ25,SPN!AJ25,EPN!AJ25,SPD!AJ25,SPMW!AJ25,SSEH!AJ25,SSES!AJ25) -> 27.004944 | AK25: =CHOOSE(m_identity,ENWL!AK25, NPgN!AK25, NPgY!AK25, WMID!AK25, EMID!AK25, SWALES!AK25, SWEST!AK25, LPN!AK25,SPN!AK25,EPN!AK25,SPD!AK25,SPMW!AK25,SSEH!AK25,SSES!AK25) -> 35.561534 | AL25: =CHOOSE(m_identity,ENWL!AL25, NPgN!AL25, NPgY!AL25, WMID!AL25, EMID!AL25, SWALES!AL25, SWEST!AL25, LPN!AL25,SPN!AL25,EPN!AL25,SPD!AL25,SPMW!AL25,SSEH!AL25,SSES!AL25) -> 36.979247 | AM25: =CHOOSE(m_identity,ENWL!AM25, NPgN!AM25, NPgY!AM25, WMID!AM25, EMID!AM25, SWALES!AM25, SWEST!AM25, LPN!AM25,SPN!AM25,EPN!AM25,SPD!AM25,SPMW!AM25,SSEH!AM25,SSES!AM25) -> 27.410153 | AN25: =CHOOSE(m_identity,ENWL!AN25, NPgN!AN25, NPgY!AN25, WMID!AN25, EMID!AN25, SWALES!AN25, SWEST!AN25, LPN!AN25,SPN!AN25,EPN!AN25,SPD!AN25,SPMW!AN25,SSEH!AN25,SSES!AN25) -> 22.557307 | AO25: =CHOOSE(m_identity,ENWL!AO25, NPgN!AO25, NPgY!AO25, WMID!AO25, EMID!AO25, SWALES!AO25, SWEST!AO25, LPN!AO25,SPN!AO25,EPN!AO25,SPD!AO25,SPMW!AO25,SSEH!AO25,SSES!AO25) -> 22.496903 | AP25: =CHOOSE(m_identity,ENWL!AP25, NPgN!AP25, NPgY!AP25, WMID!AP25, EMID!AP25, SWALES!AP25, SWEST!AP25, LPN!AP25,SPN!AP25,EPN!AP25,SPD!AP25,SPMW!AP25,SSEH!AP25,SSES!AP25) -> 29.880221 | AQ25: =CHOOSE(m_identity,ENWL!AQ25, NPgN!AQ25, NPgY!AQ25, WMID!AQ25, EMID!AQ25, SWALES!AQ25, SWEST!AQ25, LPN!AQ25,SPN!AQ25,EPN!AQ25,SPD!AQ25,SPMW!AQ25,SSEH!AQ25,SSES!AQ25) -> 28.042832
E26: Allowed Expenditure - Rail Electrification | G26: £m 12/13 prices | H26: RE | AJ26: =CHOOSE(m_identity,ENWL!AJ26, NPgN!AJ26, NPgY!AJ26, WMID!AJ26, EMID!AJ26, SWALES!AJ26, SWEST!AJ26, LPN!AJ26,SPN!AJ26,EPN!AJ26,SPD!AJ26,SPMW!AJ26,SSEH!AJ26,SSES!AJ26) -> 0 | AK26: =CHOOSE(m_identity,ENWL!AK26, NPgN!AK26, NPgY!AK26, WMID!AK26, EMID!AK26, SWALES!AK26, SWEST!AK26, LPN!AK26,SPN!AK26,EPN!AK26,SPD!AK26,SPMW!AK26,SSEH!AK26,SSES!AK26) -> 0 | AL26: =CHOOSE(m_identity,ENWL!AL26, NPgN!AL26, NPgY!AL26, WMID!AL26, EMID!AL26, SWALES!AL26, SWEST!AL26, LPN!AL26,SPN!AL26,EPN!AL26,SPD!AL26,SPMW!AL26,SSEH!AL26,SSES!AL26) -> 0 | AM26: =CHOOSE(m_identity,ENWL!AM26, NPgN!AM26, NPgY!AM26, WMID!AM26, EMID!AM26, SWALES!AM26, SWEST!AM26, LPN!AM26,SPN!AM26,EPN!AM26,SPD!AM26,SPMW!AM26,SSEH!AM26,SSES!AM26) -> 0 | AN26: =CHOOSE(m_identity,ENWL!AN26, NPgN!AN26, NPgY!AN26, WMID!AN26, EMID!AN26, SWALES!AN26, SWEST!AN26, LPN!AN26,SPN!AN26,EPN!AN26,SPD!AN26,SPMW!AN26,SSEH!AN26,SSES!AN26) -> 0 | AO26: =CHOOSE(m_identity,ENWL!AO26, NPgN!AO26, NPgY!AO26, WMID!AO26, EMID!AO26, SWALES!AO26, SWEST!AO26, LPN!AO26,SPN!AO26,EPN!AO26,SPD!AO26,SPMW!AO26,SSEH!AO26,SSES!AO26) -> 0 | AP26: =CHOOSE(m_identity,ENWL!AP26, NPgN!AP26, NPgY!AP26, WMID!AP26, EMID!AP26, SWALES!AP26, SWEST!AP26, LPN!AP26,SPN!AP26,EPN!AP26,SPD!AP26,SPMW!AP26,SSEH!AP26,SSES!AP26) -> 0 | AQ26: =CHOOSE(m_identity,ENWL!AQ26, NPgN!AQ26, NPgY!AQ26, WMID!AQ26, EMID!AQ26, SWALES!AQ26, SWEST!AQ26, LPN!AQ26,SPN!AQ26,EPN!AQ26,SPD!AQ26,SPMW!AQ26,SSEH!AQ26,SSES!AQ26) -> 0
E27: Spare 1 | F27: XX | G27: £m 12/13 prices | H27: YY | AJ27: =CHOOSE(m_identity,ENWL!AJ27, NPgN!AJ27, NPgY!AJ27, WMID!AJ27, EMID!AJ27, SWALES!AJ27, SWEST!AJ27, LPN!AJ27,SPN!AJ27,EPN!AJ27,SPD!AJ27,SPMW!AJ27,SSEH!AJ27,SSES!AJ27) -> 0 | AK27: =CHOOSE(m_identity,ENWL!AK27, NPgN!AK27, NPgY!AK27, WMID!AK27, EMID!AK27, SWALES!AK27, SWEST!AK27, LPN!AK27,SPN!AK27,EPN!AK27,SPD!AK27,SPMW!AK27,SSEH!AK27,SSES!AK27) -> 0 | AL27: =CHOOSE(m_identity,ENWL!AL27, NPgN!AL27, NPgY!AL27, WMID!AL27, EMID!AL27, SWALES!AL27, SWEST!AL27, LPN!AL27,SPN!AL27,EPN!AL27,SPD!AL27,SPMW!AL27,SSEH!AL27,SSES!AL27) -> 0 | AM27: =CHOOSE(m_identity,ENWL!AM27, NPgN!AM27, NPgY!AM27, WMID!AM27, EMID!AM27, SWALES!AM27, SWEST!AM27, LPN!AM27,SPN!AM27,EPN!AM27,SPD!AM27,SPMW!AM27,SSEH!AM27,SSES!AM27) -> 0 | AN27: =CHOOSE(m_identity,ENWL!AN27, NPgN!AN27, NPgY!AN27, WMID!AN27, EMID!AN27, SWALES!AN27, SWEST!AN27, LPN!AN27,SPN!AN27,EPN!AN27,SPD!AN27,SPMW!AN27,SSEH!AN27,SSES!AN27) -> 0 | AO27: =CHOOSE(m_identity,ENWL!AO27, NPgN!AO27, NPgY!AO27, WMID!AO27, EMID!AO27, SWALES!AO27, SWEST!AO27, LPN!AO27,SPN!AO27,EPN!AO27,SPD!AO27,SPMW!AO27,SSEH!AO27,SSES!AO27) -> 0 | AP27: =CHOOSE(m_identity,ENWL!AP27, NPgN!AP27, NPgY!AP27, WMID!AP27, EMID!AP27, SWALES!AP27, SWEST!AP27, LPN!AP27,SPN!AP27,EPN!AP27,SPD!AP27,SPMW!AP27,SSEH!AP27,SSES!AP27) -> 0 | AQ27: =CHOOSE(m_identity,ENWL!AQ27, NPgN!AQ27, NPgY!AQ27, WMID!AQ27, EMID!AQ27, SWALES!AQ27, SWEST!AQ27, LPN!AQ27,SPN!AQ27,EPN!AQ27,SPD!AQ27,SPMW!AQ27,SSEH!AQ27,SSES!AQ27) -> 0
E28: Spare 2 | F28: XX | G28: £m 12/13 prices | H28: YY | AJ28: =CHOOSE(m_identity,ENWL!AJ28, NPgN!AJ28, NPgY!AJ28, WMID!AJ28, EMID!AJ28, SWALES!AJ28, SWEST!AJ28, LPN!AJ28,SPN!AJ28,EPN!AJ28,SPD!AJ28,SPMW!AJ28,SSEH!AJ28,SSES!AJ28) -> 0 | AK28: =CHOOSE(m_identity,ENWL!AK28, NPgN!AK28, NPgY!AK28, WMID!AK28, EMID!AK28, SWALES!AK28, SWEST!AK28, LPN!AK28,SPN!AK28,EPN!AK28,SPD!AK28,SPMW!AK28,SSEH!AK28,SSES!AK28) -> 0 | AL28: =CHOOSE(m_identity,ENWL!AL28, NPgN!AL28, NPgY!AL28, WMID!AL28, EMID!AL28, SWALES!AL28, SWEST!AL28, LPN!AL28,SPN!AL28,EPN!AL28,SPD!AL28,SPMW!AL28,SSEH!AL28,SSES!AL28) -> 0 | AM28: =CHOOSE(m_identity,ENWL!AM28, NPgN!AM28, NPgY!AM28, WMID!AM28, EMID!AM28, SWALES!AM28, SWEST!AM28, LPN!AM28,SPN!AM28,EPN!AM28,SPD!AM28,SPMW!AM28,SSEH!AM28,SSES!AM28) -> 0 | AN28: =CHOOSE(m_identity,ENWL!AN28, NPgN!AN28, NPgY!AN28, WMID!AN28, EMID!AN28, SWALES!AN28, SWEST!AN28, LPN!AN28,SPN!AN28,EPN!AN28,SPD!AN28,SPMW!AN28,SSEH!AN28,SSES!AN28) -> 0 | AO28: =CHOOSE(m_identity,ENWL!AO28, NPgN!AO28, NPgY!AO28, WMID!AO28, EMID!AO28, SWALES!AO28, SWEST!AO28, LPN!AO28,SPN!AO28,EPN!AO28,SPD!AO28,SPMW!AO28,SSEH!AO28,SSES!AO28) -> 0 | AP28: =CHOOSE(m_identity,ENWL!AP28, NPgN!AP28, NPgY!AP28, WMID!AP28, EMID!AP28, SWALES!AP28, SWEST!AP28, LPN!AP28,SPN!AP28,EPN!AP28,SPD!AP28,SPMW!AP28,SSEH!AP28,SSES!AP28) -> 0 | AQ28: =CHOOSE(m_identity,ENWL!AQ28, NPgN!AQ28, NPgY!AQ28, WMID!AQ28, EMID!AQ28, SWALES!AQ28, SWEST!AQ28, LPN!AQ28,SPN!AQ28,EPN!AQ28,SPD!AQ28,SPMW!AQ28,SSEH!AQ28,SSES!AQ28) -> 0
E29: Spare 3 | F29: XX | G29: £m 12/13 prices | H29: YY | AJ29: =CHOOSE(m_identity,ENWL!AJ29, NPgN!AJ29, NPgY!AJ29, WMID!AJ29, EMID!AJ29, SWALES!AJ29, SWEST!AJ29, LPN!AJ29,SPN!AJ29,EPN!AJ29,SPD!AJ29,SPMW!AJ29,SSEH!AJ29,SSES!AJ29) -> 0 | AK29: =CHOOSE(m_identity,ENWL!AK29, NPgN!AK29, NPgY!AK29, WMID!AK29, EMID!AK29, SWALES!AK29, SWEST!AK29, LPN!AK29,SPN!AK29,EPN!AK29,SPD!AK29,SPMW!AK29,SSEH!AK29,SSES!AK29) -> 0 | AL29: =CHOOSE(m_identity,ENWL!AL29, NPgN!AL29, NPgY!AL29, WMID!AL29, EMID!AL29, SWALES!AL29, SWEST!AL29, LPN!AL29,SPN!AL29,EPN!AL29,SPD!AL29,SPMW!AL29,SSEH!AL29,SSES!AL29) -> 0 | AM29: =CHOOSE(m_identity,ENWL!AM29, NPgN!AM29, NPgY!AM29, WMID!AM29, EMID!AM29, SWALES!AM29, SWEST!AM29, LPN!AM29,SPN!AM29,EPN!AM29,SPD!AM29,SPMW!AM29,SSEH!AM29,SSES!AM29) -> 0 | AN29: =CHOOSE(m_identity,ENWL!AN29, NPgN!AN29, NPgY!AN29, WMID!AN29, EMID!AN29, SWALES!AN29, SWEST!AN29, LPN!AN29,SPN!AN29,EPN!AN29,SPD!AN29,SPMW!AN29,SSEH!AN29,SSES!AN29) -> 0 | AO29: =CHOOSE(m_identity,ENWL!AO29, NPgN!AO29, NPgY!AO29, WMID!AO29, EMID!AO29, SWALES!AO29, SWEST!AO29, LPN!AO29,SPN!AO29,EPN!AO29,SPD!AO29,SPMW!AO29,SSEH!AO29,SSES!AO29) -> 0 | AP29: =CHOOSE(m_identity,ENWL!AP29, NPgN!AP29, NPgY!AP29, WMID!AP29, EMID!AP29, SWALES!AP29, SWEST!AP29, LPN!AP29,SPN!AP29,EPN!AP29,SPD!AP29,SPMW!AP29,SSEH!AP29,SSES!AP29) -> 0 | AQ29: =CHOOSE(m_identity,ENWL!AQ29, NPgN!AQ29, NPgY!AQ29, WMID!AQ29, EMID!AQ29, SWALES!AQ29, SWEST!AQ29, LPN!AQ29,SPN!AQ29,EPN!AQ29,SPD!AQ29,SPMW!AQ29,SSEH!AQ29,SSES!AQ29) -> 0
E30: Allowed Expenditure - Innovation Roll-out | F30: CRC3D | G30: £m 12/13 prices | H30: IRM | AJ30: =CHOOSE(m_identity,ENWL!AJ30, NPgN!AJ30, NPgY!AJ30, WMID!AJ30, EMID!AJ30, SWALES!AJ30, SWEST!AJ30, LPN!AJ30,SPN!AJ30,EPN!AJ30,SPD!AJ30,SPMW!AJ30,SSEH!AJ30,SSES!AJ30) -> 0 | AK30: =CHOOSE(m_identity,ENWL!AK30, NPgN!AK30, NPgY!AK30, WMID!AK30, EMID!AK30, SWALES!AK30, SWEST!AK30, LPN!AK30,SPN!AK30,EPN!AK30,SPD!AK30,SPMW!AK30,SSEH!AK30,SSES!AK30) -> 0 | AL30: =CHOOSE(m_identity,ENWL!AL30, NPgN!AL30, NPgY!AL30, WMID!AL30, EMID!AL30, SWALES!AL30, SWEST!AL30, LPN!AL30,SPN!AL30,EPN!AL30,SPD!AL30,SPMW!AL30,SSEH!AL30,SSES!AL30) -> 0 | AM30: =CHOOSE(m_identity,ENWL!AM30, NPgN!AM30, NPgY!AM30, WMID!AM30, EMID!AM30, SWALES!AM30, SWEST!AM30, LPN!AM30,SPN!AM30,EPN!AM30,SPD!AM30,SPMW!AM30,SSEH!AM30,SSES!AM30) -> 0 | AN30: =CHOOSE(m_identity,ENWL!AN30, NPgN!AN30, NPgY!AN30, WMID!AN30, EMID!AN30, SWALES!AN30, SWEST!AN30, LPN!AN30,SPN!AN30,EPN!AN30,SPD!AN30,SPMW!AN30,SSEH!AN30,SSES!AN30) -> 0 | AO30: =CHOOSE(m_identity,ENWL!AO30, NPgN!AO30, NPgY!AO30, WMID!AO30, EMID!AO30, SWALES!AO30, SWEST!AO30, LPN!AO30,SPN!AO30,EPN!AO30,SPD!AO30,SPMW!AO30,SSEH!AO30,SSES!AO30) -> 0 | AP30: =CHOOSE(m_identity,ENWL!AP30, NPgN!AP30, NPgY!AP30, WMID!AP30, EMID!AP30, SWALES!AP30, SWEST!AP30, LPN!AP30,SPN!AP30,EPN!AP30,SPD!AP30,SPMW!AP30,SSEH!AP30,SSES!AP30) -> 0 | AQ30: =CHOOSE(m_identity,ENWL!AQ30, NPgN!AQ30, NPgY!AQ30, WMID!AQ30, EMID!AQ30, SWALES!AQ30, SWEST!AQ30, LPN!AQ30,SPN!AQ30,EPN!AQ30,SPD!AQ30,SPMW!AQ30,SSEH!AQ30,SSES!AQ30) -> 0
E31: Pension Scheme Established Deficit revenue allowances | F31: CRC3C | G31: £m 12/13 prices | H31: EDE | AJ31: =CHOOSE(m_identity,ENWL!AJ31, NPgN!AJ31, NPgY!AJ31, WMID!AJ31, EMID!AJ31, SWALES!AJ31, SWEST!AJ31, LPN!AJ31,SPN!AJ31,EPN!AJ31,SPD!AJ31,SPMW!AJ31,SSEH!AJ31,SSES!AJ31) -> 31.195491 | AK31: =CHOOSE(m_identity,ENWL!AK31, NPgN!AK31, NPgY!AK31, WMID!AK31, EMID!AK31, SWALES!AK31, SWEST!AK31, LPN!AK31,SPN!AK31,EPN!AK31,SPD!AK31,SPMW!AK31,SSEH!AK31,SSES!AK31) -> 31.195491 | AL31: =CHOOSE(m_identity,ENWL!AL31, NPgN!AL31, NPgY!AL31, WMID!AL31, EMID!AL31, SWALES!AL31, SWEST!AL31, LPN!AL31,SPN!AL31,EPN!AL31,SPD!AL31,SPMW!AL31,SSEH!AL31,SSES!AL31) -> 31.195491 | AM31: =CHOOSE(m_identity,ENWL!AM31, NPgN!AM31, NPgY!AM31, WMID!AM31, EMID!AM31, SWALES!AM31, SWEST!AM31, LPN!AM31,SPN!AM31,EPN!AM31,SPD!AM31,SPMW!AM31,SSEH!AM31,SSES!AM31) -> 31.195491 | AN31: =CHOOSE(m_identity,ENWL!AN31, NPgN!AN31, NPgY!AN31, WMID!AN31, EMID!AN31, SWALES!AN31, SWEST!AN31, LPN!AN31,SPN!AN31,EPN!AN31,SPD!AN31,SPMW!AN31,SSEH!AN31,SSES!AN31) -> 31.195491 | AO31: =CHOOSE(m_identity,ENWL!AO31, NPgN!AO31, NPgY!AO31, WMID!AO31, EMID!AO31, SWALES!AO31, SWEST!AO31, LPN!AO31,SPN!AO31,EPN!AO31,SPD!AO31,SPMW!AO31,SSEH!AO31,SSES!AO31) -> 31.195491 | AP31: =CHOOSE(m_identity,ENWL!AP31, NPgN!AP31, NPgY!AP31, WMID!AP31, EMID!AP31, SWALES!AP31, SWEST!AP31, LPN!AP31,SPN!AP31,EPN!AP31,SPD!AP31,SPMW!AP31,SSEH!AP31,SSES!AP31) -> 31.195491 | AQ31: =CHOOSE(m_identity,ENWL!AQ31, NPgN!AQ31, NPgY!AQ31, WMID!AQ31, EMID!AQ31, SWALES!AQ31, SWEST!AQ31, LPN!AQ31,SPN!AQ31,EPN!AQ31,SPD!AQ31,SPMW!AQ31,SSEH!AQ31,SSES!AQ31) -> 31.195491
E32: Other legacy adjustments' price control allowed revenue adjustment | F32: CRC3A | G32: £m 12/13 prices | H32: OLREV | AJ32: =CHOOSE(m_identity,ENWL!AJ32, NPgN!AJ32, NPgY!AJ32, WMID!AJ32, EMID!AJ32, SWALES!AJ32, SWEST!AJ32, LPN!AJ32,SPN!AJ32,EPN!AJ32,SPD!AJ32,SPMW!AJ32,SSEH!AJ32,SSES!AJ32) -> 0
E33: Other legacy adjustments' price control RAV additions adjustment | F33: CRC3A | G33: £m 12/13 prices | H33: OLRAV | AH33: =CHOOSE(m_identity,ENWL!AH33, NPgN!AH33, NPgY!AH33, WMID!AH33, EMID!AH33, SWALES!AH33, SWEST!AH33, LPN!AH33,SPN!AH33,EPN!AH33,SPD!AH33,SPMW!AH33,SSEH!AH33,SSES!AH33) -> 0 | AI33: =CHOOSE(m_identity,ENWL!AI33, NPgN!AI33, NPgY!AI33, WMID!AI33, EMID!AI33, SWALES!AI33, SWEST!AI33, LPN!AI33,SPN!AI33,EPN!AI33,SPD!AI33,SPMW!AI33,SSEH!AI33,SSES!AI33) -> 0
E34: RAV Rolling Incentive legacy adjustments' price control allowed revenue adjustment | F34: CRC3A | G34: £m 12/13 prices | H34: RIREV | AJ34: =CHOOSE(m_identity,ENWL!AJ34, NPgN!AJ34, NPgY!AJ34, WMID!AJ34, EMID!AJ34, SWALES!AJ34, SWEST!AJ34, LPN!AJ34,SPN!AJ34,EPN!AJ34,SPD!AJ34,SPMW!AJ34,SSEH!AJ34,SSES!AJ34) -> 0
E35: RAV Rolling Incentive legacy adjustments' price control RAV additions adjustment | F35: CRC3A | G35: £m 12/13 prices | H35: RIRAV | AH35: =CHOOSE(m_identity,ENWL!AH35, NPgN!AH35, NPgY!AH35, WMID!AH35, EMID!AH35, SWALES!AH35, SWEST!AH35, LPN!AH35,SPN!AH35,EPN!AH35,SPD!AH35,SPMW!AH35,SSEH!AH35,SSES!AH35) -> 0 | AI35: =CHOOSE(m_identity,ENWL!AI35, NPgN!AI35, NPgY!AI35, WMID!AI35, EMID!AI35, SWALES!AI35, SWEST!AI35, LPN!AI35,SPN!AI35,EPN!AI35,SPD!AI35,SPMW!AI35,SSEH!AI35,SSES!AI35) -> 0
E36: Tax liability revenue allowance adjustments - gearing / debt interest costs | F36: CRC3C | G36: £m nominal | H36: TGIE | AJ36: =CHOOSE(m_identity,ENWL!AJ36, NPgN!AJ36, NPgY!AJ36, WMID!AJ36, EMID!AJ36, SWALES!AJ36, SWEST!AJ36, LPN!AJ36,SPN!AJ36,EPN!AJ36,SPD!AJ36,SPMW!AJ36,SSEH!AJ36,SSES!AJ36) -> 0 | AK36: =CHOOSE(m_identity,ENWL!AK36, NPgN!AK36, NPgY!AK36, WMID!AK36, EMID!AK36, SWALES!AK36, SWEST!AK36, LPN!AK36,SPN!AK36,EPN!AK36,SPD!AK36,SPMW!AK36,SSEH!AK36,SSES!AK36) -> 0 | AL36: =CHOOSE(m_identity,ENWL!AL36, NPgN!AL36, NPgY!AL36, WMID!AL36, EMID!AL36, SWALES!AL36, SWEST!AL36, LPN!AL36,SPN!AL36,EPN!AL36,SPD!AL36,SPMW!AL36,SSEH!AL36,SSES!AL36) -> 0 | AM36: =CHOOSE(m_identity,ENWL!AM36, NPgN!AM36, NPgY!AM36, WMID!AM36, EMID!AM36, SWALES!AM36, SWEST!AM36, LPN!AM36,SPN!AM36,EPN!AM36,SPD!AM36,SPMW!AM36,SSEH!AM36,SSES!AM36) -> 0 | AN36: =CHOOSE(m_identity,ENWL!AN36, NPgN!AN36, NPgY!AN36, WMID!AN36, EMID!AN36, SWALES!AN36, SWEST!AN36, LPN!AN36,SPN!AN36,EPN!AN36,SPD!AN36,SPMW!AN36,SSEH!AN36,SSES!AN36) -> 0 | AO36: =CHOOSE(m_identity,ENWL!AO36, NPgN!AO36, NPgY!AO36, WMID!AO36, EMID!AO36, SWALES!AO36, SWEST!AO36, LPN!AO36,SPN!AO36,EPN!AO36,SPD!AO36,SPMW!AO36,SSEH!AO36,SSES!AO36) -> 0 | AP36: =CHOOSE(m_identity,ENWL!AP36, NPgN!AP36, NPgY!AP36, WMID!AP36, EMID!AP36, SWALES!AP36, SWEST!AP36, LPN!AP36,SPN!AP36,EPN!AP36,SPD!AP36,SPMW!AP36,SSEH!AP36,SSES!AP36) -> 0 | AQ36: =CHOOSE(m_identity,ENWL!AQ36, NPgN!AQ36, NPgY!AQ36, WMID!AQ36, EMID!AQ36, SWALES!AQ36, SWEST!AQ36, LPN!AQ36,SPN!AQ36,EPN!AQ36,SPD!AQ36,SPMW!AQ36,SSEH!AQ36,SSES!AQ36) -> 0
E37: Tax liability revenue allowance adjustments in respect of tax trigger events | F37: CRC3C | G37: £m 12/13 prices | H37: TTE | AJ37: =CHOOSE(m_identity,ENWL!AJ37, NPgN!AJ37, NPgY!AJ37, WMID!AJ37, EMID!AJ37, SWALES!AJ37, SWEST!AJ37, LPN!AJ37,SPN!AJ37,EPN!AJ37,SPD!AJ37,SPMW!AJ37,SSEH!AJ37,SSES!AJ37) -> 0 | AK37: =CHOOSE(m_identity,ENWL!AK37, NPgN!AK37, NPgY!AK37, WMID!AK37, EMID!AK37, SWALES!AK37, SWEST!AK37, LPN!AK37,SPN!AK37,EPN!AK37,SPD!AK37,SPMW!AK37,SSEH!AK37,SSES!AK37) -> 0 | AL37: =CHOOSE(m_identity,ENWL!AL37, NPgN!AL37, NPgY!AL37, WMID!AL37, EMID!AL37, SWALES!AL37, SWEST!AL37, LPN!AL37,SPN!AL37,EPN!AL37,SPD!AL37,SPMW!AL37,SSEH!AL37,SSES!AL37) -> 0 | AM37: =CHOOSE(m_identity,ENWL!AM37, NPgN!AM37, NPgY!AM37, WMID!AM37, EMID!AM37, SWALES!AM37, SWEST!AM37, LPN!AM37,SPN!AM37,EPN!AM37,SPD!AM37,SPMW!AM37,SSEH!AM37,SSES!AM37) -> 0 | AN37: =CHOOSE(m_identity,ENWL!AN37, NPgN!AN37, NPgY!AN37, WMID!AN37, EMID!AN37, SWALES!AN37, SWEST!AN37, LPN!AN37,SPN!AN37,EPN!AN37,SPD!AN37,SPMW!AN37,SSEH!AN37,SSES!AN37) -> 0 | AO37: =CHOOSE(m_identity,ENWL!AO37, NPgN!AO37, NPgY!AO37, WMID!AO37, EMID!AO37, SWALES!AO37, SWEST!AO37, LPN!AO37,SPN!AO37,EPN!AO37,SPD!AO37,SPMW!AO37,SSEH!AO37,SSES!AO37) -> 0 | AP37: =CHOOSE(m_identity,ENWL!AP37, NPgN!AP37, NPgY!AP37, WMID!AP37, EMID!AP37, SWALES!AP37, SWEST!AP37, LPN!AP37,SPN!AP37,EPN!AP37,SPD!AP37,SPMW!AP37,SSEH!AP37,SSES!AP37) -> 0 | AQ37: =CHOOSE(m_identity,ENWL!AQ37, NPgN!AQ37, NPgY!AQ37, WMID!AQ37, EMID!AQ37, SWALES!AQ37, SWEST!AQ37, LPN!AQ37,SPN!AQ37,EPN!AQ37,SPD!AQ37,SPMW!AQ37,SSEH!AQ37,SSES!AQ37) -> 0
E38: Legacy general tax pool adjustment | F38: CRC3A | G38: Nominal | H38: LTPG | AH38: =CHOOSE(m_identity,ENWL!AH38, NPgN!AH38, NPgY!AH38, WMID!AH38, EMID!AH38, SWALES!AH38, SWEST!AH38, LPN!AH38,SPN!AH38,EPN!AH38,SPD!AH38,SPMW!AH38,SSEH!AH38,SSES!AH38) -> 0 | AI38: =CHOOSE(m_identity,ENWL!AI38, NPgN!AI38, NPgY!AI38, WMID!AI38, EMID!AI38, SWALES!AI38, SWEST!AI38, LPN!AI38,SPN!AI38,EPN!AI38,SPD!AI38,SPMW!AI38,SSEH!AI38,SSES!AI38) -> 0
E39: Legacy special tax pool adjustment | F39: CRC3A | G39: Nominal | H39: LTPS | AH39: =CHOOSE(m_identity,ENWL!AH39, NPgN!AH39, NPgY!AH39, WMID!AH39, EMID!AH39, SWALES!AH39, SWEST!AH39, LPN!AH39,SPN!AH39,EPN!AH39,SPD!AH39,SPMW!AH39,SSEH!AH39,SSES!AH39) -> 0 | AI39: =CHOOSE(m_identity,ENWL!AI39, NPgN!AI39, NPgY!AI39, WMID!AI39, EMID!AI39, SWALES!AI39, SWEST!AI39, LPN!AI39,SPN!AI39,EPN!AI39,SPD!AI39,SPMW!AI39,SSEH!AI39,SSES!AI39) -> 0
E40: Deferred Revenue Expenditure pre-RIIO movement adjustment | F40: CRC3A | G40: Nominal | H40: LTPD | AH40: =CHOOSE(m_identity,ENWL!AH40, NPgN!AH40, NPgY!AH40, WMID!AH40, EMID!AH40, SWALES!AH40, SWEST!AH40, LPN!AH40,SPN!AH40,EPN!AH40,SPD!AH40,SPMW!AH40,SSEH!AH40,SSES!AH40) -> 0 | AI40: =CHOOSE(m_identity,ENWL!AI40, NPgN!AI40, NPgY!AI40, WMID!AI40, EMID!AI40, SWALES!AI40, SWEST!AI40, LPN!AI40,SPN!AI40,EPN!AI40,SPD!AI40,SPMW!AI40,SSEH!AI40,SSES!AI40) -> 0
E41: DRE: Gross capex adjustment | F41: CRC3A | G41: Nominal | H41: LTPC | AH41: =CHOOSE(m_identity,ENWL!AH41, NPgN!AH41, NPgY!AH41, WMID!AH41, EMID!AH41, SWALES!AH41, SWEST!AH41, LPN!AH41,SPN!AH41,EPN!AH41,SPD!AH41,SPMW!AH41,SSEH!AH41,SSES!AH41) -> 0 | AI41: =CHOOSE(m_identity,ENWL!AI41, NPgN!AI41, NPgY!AI41, WMID!AI41, EMID!AI41, SWALES!AI41, SWEST!AI41, LPN!AI41,SPN!AI41,EPN!AI41,SPD!AI41,SPMW!AI41,SSEH!AI41,SSES!AI41) -> 0
B43: Policy
C45: Cost of capital
E47: Cost of debt | G47: annual real % | AJ47: =AJ11 -> 0.0272 | AK47: =AK11 -> 0.0272 | AL47: =AL11 -> 0.0272 | AM47: =AM11 -> 0.0272 | AN47: =AN11 -> 0.0272 | AO47: =AO11 -> 0.0272 | AP47: =AP11 -> 0.0272 | AQ47: =AQ11 -> 0.0272
E48: Cost of equity | G48: annual real % | AJ48: =CHOOSE(m_identity,ENWL!AJ48, NPgN!AJ48, NPgY!AJ48, WMID!AJ48, EMID!AJ48, SWALES!AJ48, SWEST!AJ48, LPN!AJ48,SPN!AJ48,EPN!AJ48,SPD!AJ48,SPMW!AJ48,SSEH!AJ48,SSES!AJ48) -> 0.06 | AK48: =CHOOSE(m_identity,ENWL!AK48, NPgN!AK48, NPgY!AK48, WMID!AK48, EMID!AK48, SWALES!AK48, SWEST!AK48, LPN!AK48,SPN!AK48,EPN!AK48,SPD!AK48,SPMW!AK48,SSEH!AK48,SSES!AK48) -> 0.06 | AL48: =CHOOSE(m_identity,ENWL!AL48, NPgN!AL48, NPgY!AL48, WMID!AL48, EMID!AL48, SWALES!AL48, SWEST!AL48, LPN!AL48,SPN!AL48,EPN!AL48,SPD!AL48,SPMW!AL48,SSEH!AL48,SSES!AL48) -> 0.06 | AM48: =CHOOSE(m_identity,ENWL!AM48, NPgN!AM48, NPgY!AM48, WMID!AM48, EMID!AM48, SWALES!AM48, SWEST!AM48, LPN!AM48,SPN!AM48,EPN!AM48,SPD!AM48,SPMW!AM48,SSEH!AM48,SSES!AM48) -> 0.06 | AN48: =CHOOSE(m_identity,ENWL!AN48, NPgN!AN48, NPgY!AN48, WMID!AN48, EMID!AN48, SWALES!AN48, SWEST!AN48, LPN!AN48,SPN!AN48,EPN!AN48,SPD!AN48,SPMW!AN48,SSEH!AN48,SSES!AN48) -> 0.06 | AO48: =CHOOSE(m_identity,ENWL!AO48, NPgN!AO48, NPgY!AO48, WMID!AO48, EMID!AO48, SWALES!AO48, SWEST!AO48, LPN!AO48,SPN!AO48,EPN!AO48,SPD!AO48,SPMW!AO48,SSEH!AO48,SSES!AO48) -> 0.06 | AP48: =CHOOSE(m_identity,ENWL!AP48, NPgN!AP48, NPgY!AP48, WMID!AP48, EMID!AP48, SWALES!AP48, SWEST!AP48, LPN!AP48,SPN!AP48,EPN!AP48,SPD!AP48,SPMW!AP48,SSEH!AP48,SSES!AP48) -> 0.06 | AQ48: =CHOOSE(m_identity,ENWL!AQ48, NPgN!AQ48, NPgY!AQ48, WMID!AQ48, EMID!AQ48, SWALES!AQ48, SWEST!AQ48, LPN!AQ48,SPN!AQ48,EPN!AQ48,SPD!AQ48,SPMW!AQ48,SSEH!AQ48,SSES!AQ48) -> 0.06
...

Sheet Totex
A1: Totex
B2: =UserInterface!G24 -> SPN | AJ2: Done
E6: Parameter | G6: Units | I6: Constant | AJ6: Annual values
E7: PCFM year ending | I7: =UserInterface!$G$17 -> 42460 | K7: 33328 | L7: 33694 | M7: 34059 | N7: 34424 | O7: 34789 | P7: 35155 | Q7: 35520 | R7: 35885 | S7: 36250 | T7: 36616 | U7: 36981 | V7: 37346 | W7: 37711 | X7: 38077 | Y7: 38442 | Z7: 38807 | AA7: 39172 | AB7: 39538 | AC7: 39903 | AD7: 40268 | AE7: 40633 | AF7: 40999 | AG7: 41364 | AH7: 41729 | AI7: 42094 | AJ7: 42460 | AK7: 42825 | AL7: 43190 | AM7: 43555 | AN7: 43921 | AO7: 44286 | AP7: 44651 | AQ7: 45016
B9: Totex
C11: Allowed totex aggregated by sub-category
C12: Note: Totex is the sum of a number of cost categories, with all totex allowances falling under one (or more) of them. They have significance in the model as each sub-category can have its own set of tax pool allocation rules.
D14: Non-variant allowances
D15: Note: These values are set at final proposals and are not updated during the price control
E17: Non-variant allowed load related capex | G17: £m 12/13 prices | AJ17: =Input!AJ95 -> 0 | AK17: =Input!AK95 -> 0 | AL17: =Input!AL95 -> 0 | AM17: =Input!AM95 -> 0 | AN17: =Input!AN95 -> 0 | AO17: =Input!AO95 -> 0 | AP17: =Input!AP95 -> 0 | AQ17: =Input!AQ95 -> 0
E18: Non-variant allowed non-load related capex - asset replacement | G18: £m 12/13 prices | AJ18: =Input!AJ96 -> 58.241762 | AK18: =Input!AK96 -> 67.601516 | AL18: =Input!AL96 -> 63.685787 | AM18: =Input!AM96 -> 63.98897 | AN18: =Input!AN96 -> 62.861331 | AO18: =Input!AO96 -> 62.567137 | AP18: =Input!AP96 -> 58.862742 | AQ18: =Input!AQ96 -> 57.066749
E19: Non-variant allowed non-load related capex - other | G19: £m 12/13 prices | AJ19: =Input!AJ97 -> 13.991215 | AK19: =Input!AK97 -> 18.928463 | AL19: =Input!AL97 -> 16.482738 | AM19: =Input!AM97 -> 15.458044 | AN19: =Input!AN97 -> 15.767548 | AO19: =Input!AO97 -> 14.502009 | AP19: =Input!AP97 -> 16.73103 | AQ19: =Input!AQ97 -> 15.271171
E20: Non-variant allowed faults | G20: £m 12/13 prices | AJ20: =Input!AJ98 -> 23.00809 | AK20: =Input!AK98 -> 22.892742 | AL20: =Input!AL98 -> 22.858879 | AM20: =Input!AM98 -> 22.973145 | AN20: =Input!AN98 -> 23.120072 | AO20: =Input!AO98 -> 23.374384 | AP20: =Input!AP98 -> 23.980841 | AQ20: =Input!AQ98 -> 24.498383
E21: Non-variant tree cutting | AJ21: =Input!AJ99 -> 8.2841719 | AK21: =Input!AK99 -> 8.3879647 | AL21: =Input!AL99 -> 8.4927247 | AM21: =Input!AM99 -> 8.5851383 | AN21: =Input!AN99 -> 8.7337511 | AO21: =Input!AO99 -> 8.7244213 | AP21: =Input!AP99 -> 8.7251645 | AQ21: =Input!AQ99 -> 8.7084714
E22: Non-variant allowed 100% ‘revenue pool’ expenditure | G22: £m 12/13 prices | AJ22: =Input!AJ100 -> 12.005048 | AK22: =Input!AK100 -> 11.86671 | AL22: =Input!AL100 -> 11.488819 | AM22: =Input!AM100 -> 11.133211 | AN22: =Input!AN100 -> 10.672035 | AO22: =Input!AO100 -> 10.187314 | AP22: =Input!AP100 -> 9.4352878 | AQ22: =Input!AQ100 -> 8.8523194
E23: Non-variant allowed controllable opex | G23: £m 12/13 prices | AJ23: =Input!AJ101 -> 79.755691 | AK23: =Input!AK101 -> 79.107225 | AL23: =Input!AL101 -> 77.504996 | AM23: =Input!AM101 -> 77.413193 | AN23: =Input!AN101 -> 76.439107 | AO23: =Input!AO101 -> 75.993394 | AP23: =Input!AP101 -> 77.089082 | AQ23: =Input!AQ101 -> 76.485896
D25: Variant
D26: Note: Licence conditions may allow for non-baseline allowances to be granted. These are added to the baseline to generate the allowed sub-categories and thereby the overall allowed totex.
E28: Variant allowed load related capex | G28: =Input!G213 -> £m 12/13 prices | AJ28: =Input!AJ213 -> 26.73999 | AK28: =Input!AK213 -> 35.23978 | AL28: =Input!AL213 -> 36.659762 | AM28: =Input!AM213 -> 27.169157 | AN28: =Input!AN213 -> 22.355939 | AO28: =Input!AO213 -> 22.29538 | AP28: =Input!AP213 -> 29.617569 | AQ28: =Input!AQ213 -> 27.794894
E29: Variant allowed non-load related capex - asset replacement | G29: =Input!G214 -> £m 12/13 prices | AJ29: =Input!AJ214 -> 7.6792813 | AK29: =Input!AK214 -> 6.3259077 | AL29: =Input!AL214 -> 6.3092425 | AM29: =Input!AM214 -> 8.4940002 | AN29: =Input!AN214 -> 8.0580947 | AO29: =Input!AO214 -> 4.0198004 | AP29: =Input!AP214 -> 0 | AQ29: =Input!AQ214 -> 0
E30: Variant allowed non-load related capex - other | G30: =Input!G215 -> £m 12/13 prices | AJ30: =Input!AJ215 -> 0 | AK30: =Input!AK215 -> 0 | AL30: =Input!AL215 -> 0 | AM30: =Input!AM215 -> 0 | AN30: =Input!AN215 -> 0 | AO30: =Input!AO215 -> 0 | AP30: =Input!AP215 -> 0 | AQ30: =Input!AQ215 -> 0
